BEGIN:VCALENDAR
VERSION:2.0
PRODID:-//Library Market//iCal Export//EN
BEGIN:VEVENT
SUMMARY:CCPL 1-on-1 Computer Class
UID:13204
DTSTAMP:20260423T041800Z
DTSTART:20260528T210000Z
DTEND:20260528T220000Z
LOCATION:Campbell County Public Library, 2101 S. South 4J Rd, Gillette, WY
  82718, United States
ROOM: Makerspace
DESCRIPTION:
URL:https://campbellcounty.librarycalendar.com/event/ccpl-1-1-computer-cla
 ss-13204
END:VEVENT
END:VCALENDAR
