BEGIN:VCALENDAR
VERSION:2.0
PRODID:-//Library Market//iCal Export//EN
BEGIN:VEVENT
SUMMARY:CCPL 1-on-1 Computer Class
UID:13199
DTSTAMP:20260423T171700Z
DTSTART:20260520T193000Z
DTEND:20260520T203000Z
LOCATION:Campbell County Public Library, 2101 S. South 4J Rd, Gillette, WY
  82718, United States
ROOM: Makerspace
DESCRIPTION:
URL:https://campbellcounty.librarycalendar.com/event/ccpl-1-1-computer-cla
 ss-13199
END:VEVENT
END:VCALENDAR
