BEGIN:VCALENDAR
VERSION:2.0
PRODID:-//Library Market//iCal Export//EN
BEGIN:VEVENT
SUMMARY:Gabriel Project
UID:13161
DTSTAMP:20260423T224700Z
DTSTART:20260516T190000Z
DTEND:20260516T210000Z
LOCATION:Campbell County Public Library, 2101 S. South 4J Rd, Gillette, WY
  82718, United States
ROOM: Pioneer Room II
DESCRIPTION:Family education class - Growing Together- Planting seeds of l
 ove, connection and family
URL:https://campbellcounty.librarycalendar.com/event/gabriel-project-13161
END:VEVENT
END:VCALENDAR
